BEGIN:VCALENDAR
VERSION:2.0
PRODID:-//La Cause des Femmes - ECPv5.16.1.1//NONSGML v1.0//EN
CALSCALE:GREGORIAN
METHOD:PUBLISH
X-WR-CALNAME:La Cause des Femmes
X-ORIGINAL-URL:https://lacausedesfemmes.org
X-WR-CALDESC:évènements pour La Cause des Femmes
BEGIN:VTIMEZONE
TZID:Europe/Paris
BEGIN:DAYLIGHT
TZOFFSETFROM:+0100
TZOFFSETTO:+0200
TZNAME:CEST
DTSTART:20180325T010000
END:DAYLIGHT
BEGIN:STANDARD
TZOFFSETFROM:+0200
TZOFFSETTO:+0100
TZNAME:CET
DTSTART:20181028T010000
END:STANDARD
END:VTIMEZONE
BEGIN:VEVENT
DTSTART;TZID=Europe/Paris:20181020T150000
DTEND;TZID=Europe/Paris:20181020T170000
DTSTAMP:20260425T162004
CREATED:20180911T160400Z
LAST-MODIFIED:20180925T144415Z
UID:1284-1540047600-1540054800@lacausedesfemmes.org
SUMMARY:Festival 2018: Concours de Plaidoiries
DESCRIPTION:A ne manquer sous aucun prétexte …\nSix étudiants (3 filles et 3 garçons) des facultés de droit de l’université Savoie Mont-Blanc de Chambéry et de l’université de Genève vont s’affronter lors du concours de plaidoiries sur le thème :  \n« Touche pas à mon corps! Peut-on attenter au corps pour des raisons cultuelles\, culturelles\, philosophiques\, ou politiques? »  \nSuite à la richesse des argumentaires lors du Festival 2017\, nous attendons avec impatience ces nouvelles joutes verbales. En 2017\, la fougue et le parti pris de jeunes juristes nous avaient ouvert des perspectives en termes de représentations\, de choix éthiques et de visions modernes du rapport des Hommes\, au sens générique\, avec leur corps.  \n  \nProgramme:\n15:00 Plaidoiries \n18:15 Revue du langage utilisé par Olivier Bernard\, linguiste \n18:30 Remise des prix \n  \nPrix:\n1er prix: 2000 € \n2ème prix: 1500 € \n3ème prix: 1000 € \nFinalistes: 500 €  \nNouveauté 2018: Un prix du public viendra récompenser la prestation qui aura le plus emballé le public. Venez donc juger par vous même et participer au vote! \n  \nJury:\nElisabeth Decrey-Warner: Ex-présidente exécutive de l’Appel de Genève\, ancienne présidente du parlement de la république et canton de Genève\, décorée de l’ordre national de la Légion d’Honneur\, a reçu le prix de la fondation pour Genève en 2016. \nAnne-Claire Adet: Co-directrice générale du festival « Les Créatives » \nIsabelle Gattiker: Directrice générale du Festival du Film et Forum des Droits Humains de Genève (FIFDH). \nPatrice Reynaud: Avocat au barreau de Genève \nDominique Murgat: Vice-présidente du Tribunal de Grande Instance d’Albertville \n 
URL:https://lacausedesfemmes.org/evenement/festival-2018-concours-de-plaidoiries/
LOCATION:Espace Louis Simon – Gaillard\, 10 Rue du Châtelet\, Gaillard\, Haute-Savoie\, 74240\, France
CATEGORIES:Festival,Plaidoiries
ATTACH;FMTTYPE=image/jpeg:https://lacausedesfemmes.org/wp-content/uploads/2018/07/Plaidoiries_2.jpg
ORGANIZER;CN="La%20Cause%20des%20Femmes":MAILTO:contact@lacausedesfemmes.org
END:VEVENT
END:VCALENDAR